BEGIN:VCALENDAR
VERSION:2.0
PRODID:icalendar-ruby
CALSCALE:GREGORIAN
METHOD:PUBLISH
BEGIN:VEVENT
DTSTAMP:20260421T112025Z
UID:133-743379@cccarson.com
DTSTART:20260507T180000Z
DTEND:20260507T190000Z
CLASS:PUBLIC
CREATED:20260415T144503
DESCRIPTION:The Carson City Christian Ministerial Fellowship invites you to
  join us on the first Thursday of May 7th 2026\, at our State Capitol Step
 s in a time of prayer and worship. Snacks will be served before the event 
 begins. 
LAST-MODIFIED:20260415T144503
LOCATION:101 n Carson st carson city nv
SUMMARY:75th NDP 
URL;VALUE=URI:https://cccarson.com/events/75th-ndp/2026-05-07
ATTACH;FILENAME=NATIONAL-DAY-OF-PRAYER.png;FMTTYPE=image/png:https://dq5pwp
 g1q8ru0.cloudfront.net/2026/04/15/21/45/03/f2dde2ff-33c8-4794-8290-6b1da5e
 9cccb/NATIONAL-DAY-OF-PRAYER.png
END:VEVENT
END:VCALENDAR
